Workbook

Sheet CF01
A1: Chemiro (Pvt) Ltd
A2: Statement of Cash Flows
A3: For the Year Ended 31st March 2024
A4: Rs. 000'
A6: Operating Activities
A7: Profit Before Tax | C7: =23437-8100 -> 15337
A8: +/- Adjustments
A9: Interest Expense | C9: 8100
A10: Gratuity Expense | C10: 1750
A11: Bad Debt | C11: 200
A12: Disp. Gain | C12: =-'CF01.1'!G15 -> -2750
A13: Depreciation | C13: ='CF01.1'!I9 -> 35890
A15: Operating Profit before Working Capital Changes | C15: =SUM(C7:C14) -> 58527
A16: Decrease in Inventory | C16: =-(106420-157439) -> 51019
A17: Increase in Trade Receivables | C17: =-(200+110426-97830) -> -12796
A18: Increase in Trade Payables | C18: =5400-420 -> 4980
A20: Cash Generated from/used in Operating Activities | C20: =SUM(C15:C19) -> 101730
A21: (-) Interest Paid | C21: =-'CF01.1'!B14 -> -1710
A22: (-) Tax Paid | C22: =-'CF01.1'!B3 -> -5800
A23: (-) Gratuity Paid | C23: =-'CF01.1'!G19 -> -6970
A24: Net Cash Generated from/used in Operating Activities | D24: =SUM(C20:C23) -> 87250
A25: Investing Activities
A26: Vehicle Disposal Proceed | C26: 9500
A27: PPE Purchase | C27: =-'CF01.1'!G4 -> -78470
A28: Net Cash Generated from/used in Investing Activities | D28: =SUM(C26:C27) -> -68970
A30: Financing Activities
A31: Dividend Paid | C31: =-'CF01.1'!B9 -> -1280
A32: Loan Obtained | C32: 10000
A33: Loan Paid | C33: =-'CF01.1'!B19 -> -20500
A34: Net Cash Generated from/used in Financing Activities | D34: =SUM(C31:C33) -> -11780
A36: Net Increase/Decrease in Cash and Cash Equivalents | D36: =SUM(D6:D35) -> 6500
A37: Opening Cash and Cash Equivalents | D37: 8900
A38: Closing Cash and Cash Equivalents | D38: =SUM(D36:D37) -> 15400

Sheet CF01.1
A1: Workings
A2: Tax Payable | F2: Property Plant and Equipment
A3: Cash | B3: =D3+D4-B4 -> 5800 | C3: Op. Bal | D3: 5640 | F3: Op. Bal | G3: 156930 | H3: Disposal | I3: 15000
A4: Clo. Bal | B4: 3240 | C4: Tax | D4: 3400 | F4: Cash | G4: =I3+I4-G3 -> 78470 | H4: Clo. Bal | I4: 220400
A7: Retained Earnings | F7: Accumulated Depreciation | K7: 7500
A8: Tax | B8: 3400 | C8: Op. Bal | D8: 114939 | F8: Disposal | G8: 8250 | H8: Op. Bal | I8: 101460 | K8: =15000/10*6/12 -> 750
A9: Dividend | B9: =D8+D9-B8-B10 -> 1280 | C9: PBT | D9: ='CF01'!C7 -> 15337 | F9: Clo. Bal | G9: 129100 | H9: Depreciation | I9: =G8+G9-I8 -> 35890 | K9: =SUM(K7:K8) -> 8250
A10: Clo. Bal | B10: 125596
A13: Interest Payable | F13: Disposal Gain Loss
A14: Cash | B14: =D14+D15-B15 -> 1710 | C14: Op. Bal | D14: 1040 | F14: PPE | G14: 15000 | H14: Cash | I14: 9500
A15: Clo. Bal | B15: 7430 | C15: Interest | D15: 8100 | F15: PnL | G15: =I14+I15-G14 -> 2750 | H15: Acc. Dep. | I15: 8250
A18: Loan | F18: Gratuity
A19: Cash | B19: =D19+D20-B20 -> 20500 | C19: Op. Bal | D19: =31400+11500 -> 42900 | F19: Cash | G19: =I19+I20-G20 -> 6970 | H19: Op. Bal | I19: 26700
A20: Clo. Bal | B20: =30400+2000 -> 32400 | C20: Cash | D20: 10000 | F20: Clo. Bal | G20: 21480 | H20: Grat. Exp | I20: 1750

Sheet CF02
A1: Vinco (Pvt) Ltd
A2: Statement of Cash Flows (Indirect Method)
A3: For the Year Ended 31st March 2023
A4: Rs. 000'
A6: Operating Activities
A7: Profit Before Tax
A8: +/- Adjustments
A9: Interest Expense
A10: Gratuity Expense
A11: Disp. Loss
A12: Depreciation
A14: Operating Profit before Working Capital Changes | C14: =SUM(C7:C13) -> 0
A15: Decrease in Inventory
A16: Increase in Trade Receivables
A17: Increase in Trade Payables
A19: Cash Generated from/used in Operating Activities | C19: =SUM(C14:C18) -> 0
A20: (-) Interest Paid
A21: (-) Tax Paid
A22: (-) Gratuity Paid
A23: Net Cash Generated from/used in Operating Activities | D23: =SUM(C19:C22) -> 0
A24: Investing Activities
A25: Vehicle Disposal Proceed
A26: PPE Purchase
A28: Net Cash Generated from/used in Investing Activities | D28: =SUM(C25:C27) -> 0
A30: Financing Activities
A31: Dividend Paid
A32: Loan Obtained
A33: Loan Paid
A35: Net Cash Generated from/used in Financing Activities | D35: =SUM(C31:C34) -> 0
A37: Net Increase/Decrease in Cash and Cash Equivalents | D37: =SUM(D6:D36) -> 0
A38: Opening Cash and Cash Equivalents
A39: Closing Cash and Cash Equivalents | D39: =SUM(D37:D38) -> 0

Sheet CF02.1
A1: Workings

Sheet ConSFP
A1: Thomas Group
A2: Consolidated Statement of Financial Position
A3: As at 31/3/2023
A4: Rs.000
B6: W1 | C6: W2 | D6: W3 | E6: W4 | F6: W5 | G6: W6 | H6: W7 | I6: W8
A7: Non-Current Assets | M7: W1 - Investment
A8: Property Plant and Equipment at Cost | C8: 5000 | J8: =540000+240000+C8 -> 785000 | M8: Goodwill Dr. | N8: 350000
A9: Investment in Gomes PLC | B9: -350000 | J9: =350000+B9 -> 0 | M9: Investment in Subsidiary Cr. | O9: =N8 -> 350000 | T9: 0.8 | U9: 0.2
A10: Investment in Debentures | H10: -40000 | J10: =40000+H10 -> 0 | S10: Total | T10: P | U10: NCI @%NA
A11: Goodwill (INV P + NCI - Pre Acq NA) | B11: 350000 | C11: -5000 | D11: 100000 | E11: -375000 | I11: -10000 | J11: =SUM(B11:I11) -> 60000 | K11: =SUM(J8:J11) -> 845000 | M11: W2 - Fair Value Gain | R11: Inv | S11: =T11+U11 -> 11200 | T11: 10000 | U11: 1200
M12: Land Dr. | N12: 5000
A13: Current Assets | M13: Goodwill Cr. | O13: =N12 -> 5000 | R13: NA | S13: 6000 | T13: =S13*T9 -> 4800 | U13: =S13*U9 -> 1200
A14: Inventory | G14: -500 | J14: =117000+150000+G14 -> 266500
A15: Trade and Other Receivables | J15: =180000+90000 -> 270000 | M15: W3 - Non-Controlling Interest | R15: GW | S15: =S11-S13 -> 5200 | T15: =T11-T13 -> 5200 | U15: =U11-U13 -> 0
A16: Cash and Cash Equivalents | J16: =18000+90000 -> 108000 | K16: =SUM(J14:J16) -> 644500 | M16: Goodwill Dr. | N16: 100000
A17: Total Assets | K17: =SUM(K11:K16) -> 1489500 | M17: Non-Controlling Interest Cr. | O17: =N16 -> 100000 | T17: 0.8 | U17: 0.2
S18: Total | T18: P | U18: NCI @FV
A19: Equity | M19: W4 - Subsidiary Net Assets | R19: Inv | S19: =T19+U19 -> 11500 | T19: 10000 | U19: 1500
A20: Stated Capital | E20: -300000 | J20: =700000+300000+E20 -> 700000 | N20: Pre | O20: Post | P20: Reporting
A21: Retained Earnings | E21: -75000 | F21: -3000 | G21: -500 | I21: -8000 | J21: =225000+90000+E21+F21+G21+I21 -> 228500 | M21: Stated Capital | N21: 300000 | P21: 300000 | R21: NA | S21: 6000 | T21: =S21*T17 -> 4800 | U21: =S21*U17 -> 1200
A22: Equity Attributable to Parent's Shareholders | J22: =SUM(J20:J21) -> 928500 | M22: Retained Earnings | N22: 75000 | O22: =P22-N22 -> 15000 | P22: 90000
A23: Non-Controlling Interest | D23: 100000 | F23: 3000 | I23: -2000 | J23: =SUM(D23:I23) -> 101000 | K23: =SUM(J22:J23) -> 1029500 | N23: =SUM(N21:N22) -> 375000 | O23: =SUM(O21:O22) -> 15000 | P23: =SUM(P21:P22) -> 390000 | R23: GW | S23: =S19-S21 -> 5500 | T23: =T19-T21 -> 5200 | U23: =U19-U21 -> 300
A25: Non-Current Liabilities | M25: Stated Capital Dr. | N25: 300000
A26: Bank Loan | J26: =125000+44000 -> 169000 | M26: Retained Earnings Dr. | N26: 75000
A27: Debentures | H27: -40000 | J27: =100000+H27 -> 60000 | K27: =SUM(J26:J27) -> 229000 | M27: Goodwill Cr. | O27: =N23 -> 375000
A29: Current Liabilities | M29: W5 - NCI Share of Profit
A30: Trade and Other Payables | J30: =135000+25200 -> 160200
A31: Bank Overdraft | J31: =60000+10800 -> 70800 | K31: =SUM(J30:J31) -> 231000 | M31: Retained Earnings Dr. | N31: =O23*0.2 -> 3000
A32: Total Equity and Liabilities | K32: =SUM(K23:K31) -> 1489500 | M32: Non-Controlling Interest Cr. | O32: =N31 -> 3000
M34: W6 -Unrealized Profits on Inventory (Seller Parent)
M35: Inventory | N35: =9000/3 -> 3000
M36: Profit on Cost | N36: 0.2 | O36: SP = C + P | P36: 120=100+20
M37: Unrealized Profit | N37: =3000/120*20 -> 500
M39: Retained Earnings Dr. | N39: =N37 -> 500
M40: Inventory Cr. | O40: =N39 -> 500
M43: W7 - Intercompany Debenture Investment
M44: Debentures Dr. | N44: 40000
M45: Investment in Debenture Cr. | O45: 40000
M47: W8 - Goodwill Impairment (NCI at Fair Value)
M48: Retained Earnings Dr. | N48: 8000
...

Sheet ConPnL
A1: Vikash Group
A2: Consolidated Statement of Financial Position
A3: As at 31/3/2025
A4: Rs.000
B6: W1 | C6: W2 | D6: W3 | E6: W4 | F6: W5 | G6: W6
A7: Sales | J7: W1 - NCI Share of Profits
A8: Cost of Sales | K8: Profit
A9: Gross Profit | H9: =SUM(H7:H8) -> 0 | J9: Book Balance
A10: Other Income: | J10: URP on Machines
A11: Other Income
A12: Profit on Disposal of Assets
A13: Distribution Expenses | K13: =SUM(K9:K12) -> 0
A14: Administration Expenses
A15: Finance Expenses | J15: W2 - Intercompany Sales
A16: Profit before Tax | H16: =SUM(H9:H15) -> 0
A17: Income Tax Expense
A18: Profit for the Year | H18: =SUM(H16:H17) -> 0
A19: Profit Attributable to Parent's Shareholders | H19: =H18-H20 -> 0
A20: Profit Attributable to Non-Controlling Interest
A21: Other Comprehensive Income
A22: Total Comprehensive Income | H22: =H18+H21 -> 0
A23: Profit Attributable to Parent's Shareholders | H23: =H22-H24 -> 0
A24: Profit Attributable to Non-Controlling Interest | J24: W3 - Unrealized Profits on Inventory (Seller Parent)
J33: W3 - Management Fee
J38: W4 - Interest Expense
J48: W5 - Unrealized Profit on Machinery (Seller Subsidiary)
J57: W6 - Depreciation on URP (Buyer Parent)
L65: =K64 -> 0

Sheet Answers
A1: Question 03
A3: Deferred Tax
B4: A | C4: A | D4: L | G4: Working
A5: Description | B5: Build. | C5: Mch. | D5: Gratuity | E5: Total | G5: Tax Base of Gratuity
A6: Acc. CV | B6: 12000 | C6: 6000 | D6: -2000
A7: (-) Tax Base | B7: =-(20000-10000) -> -10000 | C7: =-(12000-4000) -> -8000 | D7: 0 | G7: Carrying Value | I7: 2000
A8: Temporary Dif. | B8: =B6+B7 -> 2000 | C8: =C6+C7 -> -2000 | D8: =D6+D7 -> -2000 | E8: =SUM(B8:D8) -> -2000 | G8: (-) Amount deductible for tax purpose when liabilty gets settled | I8: -2000
B9: TTD | C9: DTD | D9: DTD | E9: DTD
A10: Tax % | E10: 0.3
A11: Closing Deferred Tax Asset | E11: =-E8*E10 -> 600
A14: Deferred Tax Liabilit/Asset | I14: =SUM(I7:I10) -> 0
A15: Deferred Tax Exp. | B15: =D15+D17 -> 1250 | C15: Op. Bal | D15: 650 | F15: Deferred Tax Asset Dr. 1,250
F16: Deferred Tax Expense Cr. 1,250
C17: Clo. Bal | D17: =E11 -> 600
A19: a) Deferred Tax Asset Rs. 600,000
A20: b) Tax Expense
A22: C/Y Tax | B22: =5,600,000 X 30% | D22: =5600000*0.3 -> 1680000
A23: Deferred Tax | D23: -1250000
D24: =SUM(D22:D23) -> 430000
A27: Question 04
A29: Goodwill | F29: Working
C30: Rs. 000'
A31: Investment | F31: NCI at FV
A32: Parent's Consideration | C32: 200000 | F32: No. of NCI Shares | H32: 20000
A33: Non-Controlling Interest @ Fair Value | C33: =H34 -> 40000 | F33: MPS of Subsidiary | H33: 2
C34: =SUM(C32:C33) -> 240000 | F34: NCI at FV | H34: =H32*H33 -> 40000
A35: (-) Net Assets
A36: Stated Capital | B36: 120000
A37: Revaluation Reserve | B37: 20000
A38: Retained Earnings | B38: 30000
A39: Book Value of Net Assets | B39: =SUM(B36:B38) -> 170000
A40: (-) Fair Value Loss Mch. | B40: =-B39*0.05 -> -8500
A41: Fair Value of Net Assets | C41: =-(B39+B40) -> -161500
A43: Goodwill | C43: =C34+C41 -> 78500
A48: Question 05
A50: Borrowing Cost to be capitalized | E50: Workings
B51: Rs. 000
A52: KLS Loan Interest (First Bill) | B52: =F57 -> 11000 | E52: KLS Loan Interest
A53: Pool of Funds (Second Bill) | B53: =B63 -> 13275 | F53: Rs. 000
A54: Pool of Funds (Third Bill) | B54: =B69 -> 1966.6667 | E54: Loan | F54: 100000
...

Sheet Q5 and Q6
A1: Question 05
A3: a)
A4: 1. Probable inflow of economic benefits | G4: P
A5: 2. Resource adequacy to complete the development | G5: R
A6: 3. Intention to complete the development | G6: I
A7: 4. Technical feasibility to complete the development | G7: T
A8: 5. Ability to complete the development | G8: A
A10: b)
A11: Research
A12: As per LKAS 38, research expense cannot be capitalized, as it does not generate a commercial benefit
A14: Patent Right
A15: The cost of the patent right can be recognized, as it satisfies recognition criteria for development
A17: TV Commercial
A18: It's marketing overhead, which cannot be recognized.
A20: Question 06
A22: Training
A23: The human capital cannot be controlled. Therefore, the training cost cannot be capitalized.

Sheet Q7 and Q8
A1: Question 07
A3: 1. Contingent Liability
A4: Case filed against the company by a customer, is a contingent liability. The nature and the financial impact shall be disclosed in the financial statements. It cannot be recognized.
A7: 2. Final Dividend
A8: As per LKAS 10, final dividends cannot be recognized. However, the declared date, per share dividend and total dividend shall be disclosed.
A11: 3. Tax on Disallowed Expense
A13: Disallowed Amount | D13: 1500000
A14: Tax Rate | D14: 0.3
A15: Tax Impact | D15: =D13*D14 -> 450000
A17: A Tax provision of Rs. 450,000 is required to be made in the financial statements.
A19: Question 08
A21: 1. Provision
A22: The case filed against the company by the employee has been finalized not in favour of company, resulting a Rs. 3 Mn compensation after the year end. Therefore, a provision for the compensation is required for the year ended 31st March 2023.
A26: 2. Contingent Asset
A27: The claim against the supplier, is a contingent asset with a high probability of winning. Therefore, it shall be disclosed on nature and financial impacts.
A30: 3. Provision on Dismantling
A31: Since there's a legal obligation to dismantle the mineral site, a provision for the present value of dismantling is required to be recognized.
